BEGIN:VCALENDAR
VERSION:2.0
PRODID:-//wp-events-plugin.com//7.2.2.1//EN
TZID:Europe/Paris
X-WR-TIMEZONE:Europe/Paris
BEGIN:VEVENT
UID:1015@jevck2.ovh
DTSTART;TZID=Europe/Paris:20210515T103000
DTEND;TZID=Europe/Paris:20210515T120000
DTSTAMP:20210513T183514Z
URL:https://jevck2.ovh/events/seance-jeunes-perfectionnement-11-2021-05-15
 /
SUMMARY:Séance jeunes perfectionnement
DESCRIPTION:Les débutants de 13h30 se joignent exceptionnellement aux perf
 ectionnement sur la séance de 10h30.
LOCATION:Club JEV\, 30\, Chemin de l'Ile Fanac\, Joinville le pont\, 94340\
 , France
X-APPLE-STRUCTURED-LOCATION;VALUE=URI;X-ADDRESS=30\, Chemin de l'Ile Fanac\
 , Joinville le pont\, 94340\, France;X-APPLE-RADIUS=100;X-TITLE=Club JEV:g
 eo:0,0
END:VEVENT
BEGIN:VTIMEZONE
TZID:Europe/Paris
X-LIC-LOCATION:Europe/Paris
BEGIN:DAYLIGHT
DTSTART:20210328T030000
TZOFFSETFROM:+0100
TZOFFSETTO:+0200
TZNAME:CEST
END:DAYLIGHT
END:VTIMEZONE
END:VCALENDAR